BEGIN:VCALENDAR
VERSION:2.0
PRODID:-//Leadership Florida Deserves — Imperato for Governor 2026 - ECPv6.15.20//NONSGML v1.0//EN
CALSCALE:GREGORIAN
METHOD:PUBLISH
X-ORIGINAL-URL:https://imperatoforgovernor26.com
X-WR-CALDESC:Events for Leadership Florida Deserves — Imperato for Governor 2026
REFRESH-INTERVAL;VALUE=DURATION:PT1H
X-Robots-Tag:noindex
X-PUBLISHED-TTL:PT1H
BEGIN:VTIMEZONE
TZID:Asia/Kolkata
BEGIN:STANDARD
TZOFFSETFROM:+0530
TZOFFSETTO:+0530
TZNAME:IST
DTSTART:20220101T000000
END:STANDARD
END:VTIMEZONE
BEGIN:VEVENT
DTSTART;VALUE=DATE:20230705
DTEND;VALUE=DATE:20230706
DTSTAMP:20260422T181619
CREATED:20230705T110356Z
LAST-MODIFIED:20250722T121239Z
UID:13960-1688515200-1688601599@imperatoforgovernor26.com
SUMMARY:Imperato For Governor 2026 / 2024 Presidential Run
DESCRIPTION:Check Daniel Imperato’s ResumeIndependent America (written in 2008) – Free EbookShop for our ProductsPolitical Mafia and Judicial Tyranny – Free EbookFollow Daniel on Social Media\n \n\n\n\nContribute Now\nContributions are not tax deductible Paid for by imp2020 \n\n\n \nContribute $10\n\n \n\n \nContribute $20\n\n \n\n \nContribute $30\n\n \n\n \nContribute $40\n\n \n\n \nContribute $50\n\n \n\n \nContribute $100\n\n \n\n \nOr\, Contribute Another Amount\n\n \n\nSend check payable to\nImp2020 inc\n			  529 south Flagler Dr 29 f\n			  West palm beach Florida 33401\n			  +1 561 788 0222\n			  Info@imp2020.org\n		   \n\n\n#DanielImperato2024\n#President2024\n#WhiteHouse\n#Constitution\n#ReviveAmericasPrayerAgain\n#RAPA
URL:https://imperatoforgovernor26.com/event/daniel-imperato-2024-july-4th-independence-day-speech/
LOCATION:NY
CATEGORIES:Recent campaigns
END:VEVENT
END:VCALENDAR