BEGIN:VCALENDAR
VERSION:2.0
PRODID:-//Leadership Florida Deserves — Imperato for Governor 2026 - ECPv6.15.20//NONSGML v1.0//EN
CALSCALE:GREGORIAN
METHOD:PUBLISH
X-ORIGINAL-URL:https://imperatoforgovernor26.com
X-WR-CALDESC:Events for Leadership Florida Deserves — Imperato for Governor 2026
REFRESH-INTERVAL;VALUE=DURATION:PT1H
X-Robots-Tag:noindex
X-PUBLISHED-TTL:PT1H
BEGIN:VTIMEZONE
TZID:Asia/Kolkata
BEGIN:STANDARD
TZOFFSETFROM:+0530
TZOFFSETTO:+0530
TZNAME:IST
DTSTART:20220101T000000
END:STANDARD
END:VTIMEZONE
BEGIN:VEVENT
DTSTART;VALUE=DATE:20230701
DTEND;VALUE=DATE:20230702
DTSTAMP:20260422T181613
CREATED:20230701T101451Z
LAST-MODIFIED:20250722T061354Z
UID:13525-1688169600-1688255999@imperatoforgovernor26.com
SUMMARY:Imperato for Governor 2026 Live Prayer from Lafayette Square - Part 1
DESCRIPTION:Check Daniel Imperato’s ResumeIndependent America (written in 2008) – Free EbookShop for our ProductsPolitical Mafia and Judicial Tyranny – Free EbookFollow Daniel on Social Media\n \n\n\n\nContribute Now\nContributions are not tax deductible Paid for by imp2020 \n\n\n \nContribute $10\n\n \n\n \nContribute $20\n\n \n\n \nContribute $30\n\n \n\n \nContribute $40\n\n \n\n \nContribute $50\n\n \n\n \nContribute $100\n\n \n\n \nOr\, Contribute Another Amount\n\n \n\nSend check payable to\nImp2020 inc\n			  529 south Flagler Dr 29 f\n			  West palm beach Florida 33401\n			  +1 561 788 0222\n			  Info@imp2020.org\n		   \n\n\n#DanielImperato2024\n#President2024\n#WhiteHouse\n#Constitution\n#ReviveAmericasPrayerAgain\n#RAPA
URL:https://imperatoforgovernor26.com/event/daniel-imperato-2024-july-1-lafayette-square-prayer/
LOCATION:NY
CATEGORIES:Recent campaigns
END:VEVENT
BEGIN:VEVENT
DTSTART;VALUE=DATE:20230701
DTEND;VALUE=DATE:20230702
DTSTAMP:20260422T181613
CREATED:20230701T121135Z
LAST-MODIFIED:20250722T111752Z
UID:13534-1688169600-1688255999@imperatoforgovernor26.com
SUMMARY:Daniel Imperato 2024 – The Fracter Master – V01
DESCRIPTION:Check Daniel Imperato’s ResumeIndependent America (written in 2008) – Free EbookShop for our ProductsPolitical Mafia and Judicial Tyranny – Free EbookFollow Daniel on Social Media\n \n\n\n\nContribute Now\nContributions are not tax deductible Paid for by imp2020 \n\n\n \nContribute $10\n\n \n\n \nContribute $20\n\n \n\n \nContribute $30\n\n \n\n \nContribute $40\n\n \n\n \nContribute $50\n\n \n\n \nContribute $100\n\n \n\n \nOr\, Contribute Another Amount\n\n \n\nSend check payable to\nImp2020 inc\n			  529 south Flagler Dr 29 f\n			  West palm beach Florida 33401\n			  +1 561 788 0222\n			  Info@imp2020.org\n		   \n\n\n#DanielImperato2024\n#President2024\n#WhiteHouse\n#Constitution\n#ReviveAmericasPrayerAgain\n#RAPA
URL:https://imperatoforgovernor26.com/event/daniel-imperato-2024-the-fracter-master-v01/
LOCATION:NY
CATEGORIES:Recent campaigns
END:VEVENT
BEGIN:VEVENT
DTSTART;VALUE=DATE:20230701
DTEND;VALUE=DATE:20230702
DTSTAMP:20260422T181613
CREATED:20230701T133312Z
LAST-MODIFIED:20250722T111734Z
UID:13539-1688169600-1688255999@imperatoforgovernor26.com
SUMMARY:Daniel Imperato 2024 Live Prayer from Lafayette Square – Part 2
DESCRIPTION:Check Daniel Imperato’s ResumeIndependent America (written in 2008) – Free EbookShop for our ProductsPolitical Mafia and Judicial Tyranny – Free EbookFollow Daniel on Social Media\n \n\n\n\nContribute Now\nContributions are not tax deductible Paid for by imp2020 \n\n\n \nContribute $10\n\n \n\n \nContribute $20\n\n \n\n \nContribute $30\n\n \n\n \nContribute $40\n\n \n\n \nContribute $50\n\n \n\n \nContribute $100\n\n \n\n \nOr\, Contribute Another Amount\n\n \n\nSend check payable to\nImp2020 inc\n			  529 south Flagler Dr 29 f\n			  West palm beach Florida 33401\n			  +1 561 788 0222\n			  Info@imp2020.org\n		   \n\n\n#DanielImperato2024\n#President2024\n#WhiteHouse\n#Constitution\n#ReviveAmericasPrayerAgain\n#RAPA
URL:https://imperatoforgovernor26.com/event/daniel-imperato-2024-live-prayer-from-lafayette-square-part-2/
LOCATION:NY
CATEGORIES:Recent campaigns
END:VEVENT
BEGIN:VEVENT
DTSTART;VALUE=DATE:20230701
DTEND;VALUE=DATE:20230702
DTSTAMP:20260422T181613
CREATED:20230701T134029Z
LAST-MODIFIED:20250722T111643Z
UID:13541-1688169600-1688255999@imperatoforgovernor26.com
SUMMARY:Daniel Imperato 2024 Live Prayer from Lafayette Square – Part 3
DESCRIPTION:Check Daniel Imperato’s ResumeIndependent America (written in 2008) – Free EbookShop for our ProductsPolitical Mafia and Judicial Tyranny – Free EbookFollow Daniel on Social Media\n \n\n\n\nContribute Now\nContributions are not tax deductible Paid for by imp2020 \n\n\n \nContribute $10\n\n \n\n \nContribute $20\n\n \n\n \nContribute $30\n\n \n\n \nContribute $40\n\n \n\n \nContribute $50\n\n \n\n \nContribute $100\n\n \n\n \nOr\, Contribute Another Amount\n\n \n\nSend check payable to\nImp2020 inc\n			  529 south Flagler Dr 29 f\n			  West palm beach Florida 33401\n			  +1 561 788 0222\n			  Info@imp2020.org\n		   \n\n\n#DanielImperato2024\n#President2024\n#WhiteHouse\n#Constitution\n#ReviveAmericasPrayerAgain\n#RAPA
URL:https://imperatoforgovernor26.com/event/daniel-imperato-2024-live-prayer-from-lafayette-square-part-3/
LOCATION:NY
CATEGORIES:Recent campaigns
END:VEVENT
END:VCALENDAR